BEGIN:VCALENDAR
PRODID:http://wibix.de/infusions/pro_download_panel/download.php?did=27
VERSION:2.0
METHOD:PUBLISH
BEGIN:VEVENT
DTSTART:20180325T120000Z
DTEND:20180325T190000Z
UID:48@http://www.southjerseyhookthis.com/
DTSTAMP:20171130T132247Z
DESCRIPTION:Rainbow Lake
SUMMARY:Rainbow Lake
LOCATION:Rainbow Lake
CLASS:PUBLIC
END:VEVENT
END:VCALENDAR
