BEGIN:VCALENDAR
PRODID:http://wibix.de/infusions/pro_download_panel/download.php?did=27
VERSION:2.0
METHOD:PUBLISH
BEGIN:VEVENT
DTSTART:20180407T120000Z
DTEND:20180407T190000Z
UID:49@http://www.southjerseyhookthis.com/
DTSTAMP:20171130T132454Z
DESCRIPTION:Newton Lake
SUMMARY:Newton Lake
LOCATION:Collingswood NJ
CLASS:PUBLIC
END:VEVENT
END:VCALENDAR
