BEGIN:VCALENDAR
PRODID:http://wibix.de/infusions/pro_download_panel/download.php?did=27
VERSION:2.0
METHOD:PUBLISH
BEGIN:VEVENT
DTSTART:20180414T113000Z
DTEND:20180414T183000Z
UID:50@http://www.southjerseyhookthis.com/
DTSTAMP:20171130T132628Z
DESCRIPTION:D.O.D Lake
SUMMARY:D.O.D. Lake
LOCATION:D.O.D. Lake
CLASS:PUBLIC
END:VEVENT
END:VCALENDAR
