BEGIN:VCALENDAR
PRODID:http://wibix.de/infusions/pro_download_panel/download.php?did=27
VERSION:2.0
METHOD:PUBLISH
BEGIN:VEVENT
DTSTART:20180428T110000Z
DTEND:20180428T190000Z
UID:51@http://www.southjerseyhookthis.com/
DTSTAMP:20171130T132728Z
DESCRIPTION:LUMS Pond DE
SUMMARY:LUMS Pond DE
LOCATION:Bear DE
CLASS:PUBLIC
END:VEVENT
END:VCALENDAR
