BEGIN:VCALENDAR
PRODID:http://wibix.de/infusions/pro_download_panel/download.php?did=27
VERSION:2.0
METHOD:PUBLISH
BEGIN:VEVENT
DTSTART:20180510T110000Z
DTEND:20180510T190000Z
UID:52@http://www.southjerseyhookthis.com/
DTSTAMP:20171130T132922Z
DESCRIPTION:NE River- Anchor Marine
SUMMARY:NE River- Anchor Marine
LOCATION:NorthEast River, MD
CLASS:PUBLIC
END:VEVENT
END:VCALENDAR
