BEGIN:VCALENDAR
PRODID:http://wibix.de/infusions/pro_download_panel/download.php?did=27
VERSION:2.0
METHOD:PUBLISH
BEGIN:VEVENT
DTSTART:20180317T120000Z
DTEND:20180317T190000Z
UID:65@http://www.southjerseyhookthis.com/
DTSTAMP:20180204T181639Z
DESCRIPTION:2018 Season Opener at Union Lake
SUMMARY:2018 Season Opener
LOCATION:Union Lake
CLASS:PUBLIC
END:VEVENT
END:VCALENDAR
